BEGIN:VCALENDAR
VERSION:2.0
PRODID:-//New Covenant Methodist Church - ECPv6.15.14//NONSGML v1.0//EN
CALSCALE:GREGORIAN
METHOD:PUBLISH
X-WR-CALNAME:New Covenant Methodist Church
X-ORIGINAL-URL:https://ncmccartersville.org
X-WR-CALDESC:Events for New Covenant Methodist Church
REFRESH-INTERVAL;VALUE=DURATION:PT1H
X-Robots-Tag:noindex
X-PUBLISHED-TTL:PT1H
BEGIN:VTIMEZONE
TZID:America/New_York
BEGIN:DAYLIGHT
TZOFFSETFROM:-0500
TZOFFSETTO:-0400
TZNAME:EDT
DTSTART:20250309T070000
END:DAYLIGHT
BEGIN:STANDARD
TZOFFSETFROM:-0400
TZOFFSETTO:-0500
TZNAME:EST
DTSTART:20251102T060000
END:STANDARD
BEGIN:DAYLIGHT
TZOFFSETFROM:-0500
TZOFFSETTO:-0400
TZNAME:EDT
DTSTART:20260308T070000
END:DAYLIGHT
BEGIN:STANDARD
TZOFFSETFROM:-0400
TZOFFSETTO:-0500
TZNAME:EST
DTSTART:20261101T060000
END:STANDARD
BEGIN:DAYLIGHT
TZOFFSETFROM:-0500
TZOFFSETTO:-0400
TZNAME:EDT
DTSTART:20270314T070000
END:DAYLIGHT
BEGIN:STANDARD
TZOFFSETFROM:-0400
TZOFFSETTO:-0500
TZNAME:EST
DTSTART:20271107T060000
END:STANDARD
END:VTIMEZONE
BEGIN:VEVENT
DTSTART;TZID=America/New_York:20260421T100000
DTEND;TZID=America/New_York:20260421T113000
DTSTAMP:20260421T060137
CREATED:20240108T145134Z
LAST-MODIFIED:20251016T000920Z
UID:10002564-1776765600-1776771000@ncmccartersville.org
SUMMARY:Women's Bible Study
DESCRIPTION:Women’s Bible Study meets at 10:00 am every Tuesday at NCMC.  Currently studying Ecclesiastes. \nFor more information\, please contact Maggie Lasher: 770-387-8984.
URL:https://ncmccartersville.org/event/womens-bible-study/2026-04-21/
ATTACH;FMTTYPE=image/jpeg:https://ncmccartersville.org/wp-content/uploads/2024/01/joel-muniz-XqXJJhK-c08-unsplash-scaled.jpg
END:VEVENT
END:VCALENDAR